BEGIN:VCALENDAR
PRODID:-//Det Danske Spejderkorps//NONSGML Gruppeweb//EN
VERSION:2.0
CALSCALE:GREGORIAN
X-PUBLISHED-TTL:PT1H
X-WR-CALNAME:FAGLEDER
METHOD:PUBLISH
BEGIN:VEVENT
UID:gruppeweb.dk:6202:event:1163
DTSTAMP:20260422T090259Z
LAST-MODIFIED:20241209T121300Z
SUMMARY:Fællesmøde / Sct. Georgsdag
DESCRIPTION:\n
URL:https://klitmollerspejderne.dk/begivenhed/faellesmoede-sct-georgsdag
DTSTART;VALUE=DATE:20250423
LOCATION:
END:VEVENT
BEGIN:VEVENT
UID:gruppeweb.dk:6202:event:1167
DTSTAMP:20260422T090259Z
LAST-MODIFIED:20241209T122436Z
SUMMARY:Centerlejr på www.lejrpladsentandrup.dk
DESCRIPTION:\n
URL:https://klitmollerspejderne.dk/begivenhed/centerlejr-paa-wwwlejrpladsen
 tandrupdk
DTSTART;VALUE=DATE:20250712
DTEND;VALUE=DATE:20250718
LOCATION:Klitmøller Spejderne\, Skolestien 10\, 1.\, Klitmøller\, 7700 Th
 isted
END:VEVENT
BEGIN:VEVENT
UID:gruppeweb.dk:6202:event:1168
DTSTAMP:20260422T090259Z
LAST-MODIFIED:20241209T122440Z
SUMMARY:Divisionsturnering
DESCRIPTION:\n
URL:https://klitmollerspejderne.dk/begivenhed/divisionsturnering-4
DTSTART;VALUE=DATE:20250523
DTEND;VALUE=DATE:20250526
LOCATION:Klitmøller Spejderne\, Skolestien 10\, 1.\, Klitmøller\, 7700 Th
 isted
END:VEVENT
BEGIN:VEVENT
UID:gruppeweb.dk:6202:event:1169
DTSTAMP:20260422T090259Z
LAST-MODIFIED:20241209T122953Z
SUMMARY:BLÅT døgn for ledere og bestyrelser i KLITdivision
DESCRIPTION:\n
URL:https://klitmollerspejderne.dk/begivenhed/blaat-doegn-ledere-og-bestyre
 lser-i-klitdivision
DTSTART;VALUE=DATE:20251025
DTEND;VALUE=DATE:20251027
LOCATION:
END:VEVENT
BEGIN:VEVENT
UID:gruppeweb.dk:6202:event:1182
DTSTAMP:20260422T090259Z
LAST-MODIFIED:20241210T111626Z
SUMMARY:Gruppeleder kontortid
DESCRIPTION:\n
URL:https://klitmollerspejderne.dk/begivenhed/gruppeleder-kontortid
DTSTART:20250507T163000Z
DTEND:20250507T180000Z
LOCATION:Klitmøller Spejderne\, Skolestien 10\, 1.\, Klitmøller\, 7700 Th
 isted
END:VEVENT
BEGIN:VEVENT
UID:gruppeweb.dk:6202:event:1185
DTSTAMP:20260422T090259Z
LAST-MODIFIED:20241210T112143Z
SUMMARY:Klitmøller Sommerfest
DESCRIPTION:\n
URL:https://klitmollerspejderne.dk/begivenhed/klitmoeller-sommerfest-4
DTSTART;VALUE=DATE:20250613
DTEND;VALUE=DATE:20250616
LOCATION:Klitmøller Spejderne\, Skolestien 10\, 1.\, Klitmøller\, 7700 Th
 isted
END:VEVENT
BEGIN:VEVENT
UID:gruppeweb.dk:6202:event:1187
DTSTAMP:20260422T090259Z
LAST-MODIFIED:20250812T044807Z
SUMMARY:Oprykning og familietur
DESCRIPTION:Invitation til oprykningstur:\n\n\n\n \n\nKære spejdere og sp
 ejderfamilierne\,\n\n\nVelkommen til oprykningstur lørdag d. 16.8 kl. 11.
 30\n\n\n\n \n\nOprykningsturen er den traditionsrige opstart af spejderå
 ret hvor vi mødes\,  \nalle os der er spejdere og alle os der har spejder
 e i familien.\n\n\n\n \n\nFormålet med dagen er at spejderfamilierne få
 r en forsmag på hvad  \nspejderlivet indebærer for spejderne\, og at spe
 jderne møder hinanden.  \nSpejderne siger farvel til deres gamle gren og 
 goddag til deres nye.\n\n\n\n \n\nI år bliver det lidt alternativt\, for
 di vi ikke laver overnatning som vi  \nplejer. Vi holder det nemlig på en
  dag – men vi mødes på Tandrup tipi  \nsom vi plejer.\n\n\n\n \n\nOpr
 ykningsturen er for hele familien – og vi har planlagt et godt program  
 \nfor hele familien. Kan dit barn deltage\, men ikke resten af familien\, 
 skal I  \nfinde en ”adoptivfamilie” til dit barn.\n\n\n\n \n\nVi mød
 es på www.lejrpladsentanrup.dk / Tipi\, Tandrupvej 1\, Vester Vandet og  
 \nstarter med frokost. Herefter går vi i grenene\, mens familien skal lav
 e  \nnogle sjove aktiviteter.\n\n\nEfter oprykningsritualet går vi i vore
 s nye grene en times tid – med vores  \nhemmelige indvielsesritualer –
  mens forældrene hygger. Vi slutter med  \nfælles rundbold og fællesspe
 jdersang og farvel klokken 17:00.\n\n\n\n \n\nTil selve oprykningsrituale
 t løber spejderen gennem en æresport af de andre  \nspejdere – her kan
  spejderen selv bestemme om de vil bæres\, kildes eller  \ngive highfives
  rækken ned.\n\n\n\n \n\nMedbring selv: kopper og tallerkner\, og ting a
 t sidde på. Kan du spille  \nguitar til lejrbålet\, må du meget gerne m
 edbringe din guitar og lysten til  \nat spille!\n\n\n\n \n\nVi glæder os
  til at se jer!\n\n\nTilmelding til dit barns spejderleder senest torsdag.
 \n\n\n\n \n\n\n/klitmøllerspejderne\n\n\n\n
URL:https://klitmollerspejderne.dk/begivenhed/oprykning-og-familietur
DTSTART:20250816T093000Z
DTEND:20250816T150000Z
LOCATION:lejrpladsen Tandrup\, Tandrupvej 1\, Vester Vandet\, 7700
END:VEVENT
BEGIN:VEVENT
UID:gruppeweb.dk:6202:event:1197
DTSTAMP:20260422T090259Z
LAST-MODIFIED:20241210T114704Z
SUMMARY:Juletræstænding
DESCRIPTION:\n
URL:https://klitmollerspejderne.dk/begivenhed/juletraestaending-5
DTSTART;VALUE=DATE:20251130
LOCATION:Klitmøller Spejderne\, Skolestien 10\, 1.\, Klitmøller\, 7700 Th
 isted
END:VEVENT
BEGIN:VEVENT
UID:gruppeweb.dk:6202:event:1382
DTSTAMP:20260422T090259Z
LAST-MODIFIED:20251201T205854Z
SUMMARY:Fællesmøde: Tænkedag
DESCRIPTION:\n
URL:https://klitmollerspejderne.dk/begivenhed/faellesmoede-taenkedag-0
DTSTART:20260225T160000Z
DTEND:20260225T180000Z
LOCATION:Thistedspejderne\, Vegendalvej 15\, KNAKKEN\, 7700 Thisted
END:VEVENT
BEGIN:VEVENT
UID:gruppeweb.dk:6202:event:1385
DTSTAMP:20260422T090259Z
LAST-MODIFIED:20251201T205907Z
SUMMARY:Fællesspejdermøde: Generalforsamling
DESCRIPTION:Tarteletter til alle\n\nGeneralforsamling for alle over 15 år\
 n\nSpejderleg for alle under 15 år\n\n
URL:https://klitmollerspejderne.dk/begivenhed/faellesspejdermoede-generalfo
 rsamling
DTSTART:20260218T000000Z
DTEND:20260218T180000Z
LOCATION:Klitmøller Spejderne\, Skolestien 10\, 1.\, Klitmøller\, 7700 Th
 isted
END:VEVENT
BEGIN:VEVENT
UID:gruppeweb.dk:6202:event:1386
DTSTAMP:20260422T090259Z
LAST-MODIFIED:20251201T205907Z
SUMMARY:VINTERFERIE
DESCRIPTION:\n
URL:https://klitmollerspejderne.dk/begivenhed/vinterferie
DTSTART;VALUE=DATE:20260209
DTEND;VALUE=DATE:20260216
LOCATION:Klitmøller Spejderne\, Skolestien 10\, 1.\, Klitmøller\, 7700 Th
 isted
END:VEVENT
BEGIN:VEVENT
UID:gruppeweb.dk:6202:event:1387
DTSTAMP:20260422T090259Z
LAST-MODIFIED:20251201T210858Z
SUMMARY:Spejderdag
DESCRIPTION:God gerning - lav din morsdagsgave\n\n
URL:https://klitmollerspejderne.dk/begivenhed/spejderdag
DTSTART;VALUE=DATE:20260510
LOCATION:Klitmøller Spejderne\, Skolestien 10\, 1.\, Klitmøller\, 7700 Th
 isted
END:VEVENT
BEGIN:VEVENT
UID:gruppeweb.dk:6202:event:1389
DTSTAMP:20260422T090259Z
LAST-MODIFIED:20251201T210902Z
SUMMARY:Klitmøller Sommerfest
DESCRIPTION:\n
URL:https://klitmollerspejderne.dk/begivenhed/klitmoeller-sommerfest-5
DTSTART;VALUE=DATE:20260529
DTEND;VALUE=DATE:20260601
LOCATION:Klitmøller Spejderne\, Skolestien 10\, 1.\, Klitmøller\, 7700 Th
 isted
END:VEVENT
BEGIN:VEVENT
UID:gruppeweb.dk:6202:event:1401
DTSTAMP:20260422T090259Z
LAST-MODIFIED:20251201T210907Z
SUMMARY:Fællesdag: Sct. Georgsdag
DESCRIPTION:Tropsspejderne + fagspejdere arrangerer denne.\n\n
URL:https://klitmollerspejderne.dk/begivenhed/faellesdag-sct-georgsdag
DTSTART:20260423T000000Z
DTEND:20260423T170000Z
LOCATION:Klitmøller Spejderne\, Skolestien 10\, 1.\, Klitmøller\, 7700 Th
 isted
END:VEVENT
BEGIN:VEVENT
UID:gruppeweb.dk:6202:event:1403
DTSTAMP:20260422T090259Z
LAST-MODIFIED:20251201T210910Z
SUMMARY:Thy Centerlejr i Tandrup Tipi
DESCRIPTION:\n
URL:https://klitmollerspejderne.dk/begivenhed/thy-centerlejr-i-tandrup-tipi
DTSTART;VALUE=DATE:20260514
DTEND;VALUE=DATE:20260518
LOCATION:Klitmøller Spejderne\, Skolestien 10\, 1.\, Klitmøller\, 7700 Th
 isted
END:VEVENT
BEGIN:VEVENT
UID:gruppeweb.dk:6202:event:1404
DTSTAMP:20260422T090259Z
LAST-MODIFIED:20251201T211915Z
SUMMARY:PÅSKEÆGSJAGT
DESCRIPTION:Planlægningsgruppe: Johanne og Morten\n\n
URL:https://klitmollerspejderne.dk/begivenhed/paaskeaegsjagt-0
DTSTART;VALUE=DATE:20260406
LOCATION:Klitmøller Spejderne\, Skolestien 10\, 1.\, Klitmøller\, 7700 Th
 isted
END:VEVENT
BEGIN:VEVENT
UID:gruppeweb.dk:6202:event:1422
DTSTAMP:20260422T090259Z
LAST-MODIFIED:20251201T212915Z
SUMMARY:SPEJDERNES LEJR 2026
DESCRIPTION:\n
URL:https://klitmollerspejderne.dk/begivenhed/spejdernes-lejr-2026
DTSTART;VALUE=DATE:20260718
DTEND;VALUE=DATE:20260727
LOCATION:Klitmøller Spejderne\, Skolestien 10\, 1.\, Klitmøller\, 7700 Th
 isted
END:VEVENT
BEGIN:VEVENT
UID:gruppeweb.dk:6202:event:1425
DTSTAMP:20260422T090259Z
LAST-MODIFIED:20251201T212917Z
SUMMARY:Divisionsrådsmøde
DESCRIPTION:\n
URL:https://klitmollerspejderne.dk/begivenhed/divisionsraadsmoede-1
DTSTART;VALUE=DATE:20260407
LOCATION:Klitmøller Spejderne\, Skolestien 10\, 1.\, Klitmøller\, 7700 Th
 isted
END:VEVENT
BEGIN:VEVENT
UID:gruppeweb.dk:6202:event:1465
DTSTAMP:20260422T090259Z
LAST-MODIFIED:20251201T213945Z
SUMMARY:Korpsrådsmøde
DESCRIPTION:\n
URL:https://klitmollerspejderne.dk/begivenhed/korpsraadsmoede-5
DTSTART;VALUE=DATE:20261113
DTEND;VALUE=DATE:20261116
LOCATION:Klitmøller Spejderne\, Skolestien 10\, 1.\, Klitmøller\, 7700 Th
 isted
END:VEVENT
BEGIN:VEVENT
UID:gruppeweb.dk:6202:event:1478
DTSTAMP:20260422T090259Z
LAST-MODIFIED:20251201T213949Z
SUMMARY:Oprykningstur
DESCRIPTION:\n
URL:https://klitmollerspejderne.dk/begivenhed/oprykningstur-2
DTSTART;VALUE=DATE:20260815
LOCATION:Klitmøller Spejderne\, Skolestien 10\, 1.\, Klitmøller\, 7700 Th
 isted
END:VEVENT
BEGIN:VEVENT
UID:gruppeweb.dk:6202:event:1481
DTSTAMP:20260422T090259Z
LAST-MODIFIED:20251201T213954Z
SUMMARY:Fællesmøde: Grenting
DESCRIPTION:\n
URL:https://klitmollerspejderne.dk/begivenhed/faellesmoede-grenting
DTSTART:20260916T000000Z
DTEND:20260916T170000Z
LOCATION:Klitmøller Spejderne\, Skolestien 10\, 1.\, Klitmøller\, 7700 Th
 isted
END:VEVENT
BEGIN:VEVENT
UID:gruppeweb.dk:6202:event:1503
DTSTAMP:20260422T090259Z
LAST-MODIFIED:20260119T213127Z
SUMMARY:Udviklingsplan
DESCRIPTION:Vi skal lave Klitmøllerspejdernes udviklingsplan - på baggrun
 d af Det  \nDanske Spejderkorps' udviklingsplan [1]. \n\nAne laver en sty
 ret proces og på to timer får vi lavet et produkt som  \nbliver kort og 
 præcist - lige til at bruge. \n\nVi starter d. 29.januar kl.19 og slutte
 r kl. 21. \n\nDe første tre der tilmelder sig får lov til at bestemme s
 nacks og  \ndrikkevarer! \n\n\nVi ses!\n\n\n[1] https://dds.dk/sites/defa
 ult/files/2025-03/Udviklingsplan_2026%E2%80%942029_A4_1.pdf\n
URL:https://klitmollerspejderne.dk/begivenhed/udviklingsplan
DTSTART:20260129T180000Z
DTEND:20260129T200000Z
LOCATION:
END:VEVENT
END:VCALENDAR
